BEGIN:VCALENDAR
VERSION:2.0
PRODID:-//eventon.com NONSGML v1.0//EN
BEGIN:VEVENT
UID:69e7391e1742a
DTSTAMP:20260421T094518
DTSTART:20200318T133000Z
DTEND:20200318T160000Z
LOCATION:CodeBase - Edinburgh 37a Castle Terrace\,  Edinburgh\,  EH1 2EL
SUMMARY:Germany Works: Business Opportunities in the German Market - Edinburgh
DESCRIPTION: The free seminar aims at presenting opportunities in Germany for Scottish companies in growing digital business sectors like smart manufacturing\,  e-health\,  IoT\,  AI\,  fintech and more. Learn about developments in the German market from our experts and discuss how to best enter the market and establish a presence. Representatives of[..]
END:VEVENT
END:VCALENDAR