BEGIN:VCALENDAR
VERSION:2.0
PRODID:-//eventon.com NONSGML v1.0//EN
BEGIN:VEVENT
UID:69e4cb68e526d
DTSTAMP:20260419T133240
DTSTART:20200312T083000Z
DTEND:20200312T153000Z
LOCATION:Radisson Blu Hotel 301 Argyle St\,  Glasgow G2 8DL
SUMMARY:GCRF Demonstrate Impact Competition Briefing Round 2: How to Increase Impact Through Innovation in Developing Countries - Edinburgh
DESCRIPTION: Through the Global Challenges Research Fund (GCRF)\,  Innovate UK will invest up to £9.3 million in innovation projects. The Global Challenges Research Fund (GCRF) will invest up to £9.3 million in demonstration-stage projects. The projects must have the potential to transform lives in developing countries\,  through market-creating innovation. We will support projects that[..]
END:VEVENT
END:VCALENDAR