BEGIN:VCALENDAR
VERSION:2.0
PRODID:-//eventon.com NONSGML v1.0//EN
BEGIN:VEVENT
UID:69ed0e92992e6
DTSTAMP:20260425T195722
DTSTART:20200528T083000Z
DTEND:20200528T100000Z
LOCATION:Online 
SUMMARY:A focus on 5G Security
DESCRIPTION: The Scotland 5G Centre (S5GC) is established to work with a broad set of economic and social partners to explore\,  develop and deploy the communications solutions required for the complex environment we find ourselves in. At the core of this is the requirement for safe\,  resilient and secure connectivity across[..]
END:VEVENT
END:VCALENDAR