BEGIN:VCALENDAR
VERSION:2.0
PRODID:-//eventon.com NONSGML v1.0//EN
BEGIN:VEVENT
UID:69e4cb5ca45dd
DTSTAMP:20260419T133228
DTSTART:20200709T180000Z
DTEND:20200709T190000Z
LOCATION:Online 
SUMMARY:IT For Business: The Rise of No-Code Business Software Solutions
DESCRIPTION: Digital transformation of business requires lots of new software – much more than IT alone can deliver. Moreover\,  business experts\,  not IT pros\,  are best equipped to deliver crucial software to automate operations. Low-code platforms enable businesspeople to apply their Excel\,  web\,  and data talents to fill this software gap[..]
END:VEVENT
END:VCALENDAR