BEGIN:VCALENDAR
VERSION:2.0
PRODID:-//eventon.com NONSGML v1.0//EN
BEGIN:VEVENT
UID:69e765181e43e
DTSTAMP:20260421T125256
DTSTART:20200714T150000Z
DTEND:20200714T160000Z
LOCATION:Online 
SUMMARY:Pulling the Levers for Post-Pandemic Success
DESCRIPTION: Do you ever wonder what Harvard\,  Bain Capital\,  and McKinsey advise companies to do in order to grow and thrive coming out of a downturn? Now you can not only know what the experts are saying\,  you can find out how to apply it to your own organisation to get[..]
END:VEVENT
END:VCALENDAR