BEGIN:VCALENDAR
VERSION:2.0
PRODID:-//eventon.com NONSGML v1.0//EN
BEGIN:VEVENT
UID:69e4e0d9c00e1
DTSTAMP:20260419T150409
DTSTART:20200820T083000Z
DTEND:20200820T100000Z
LOCATION:Online 
SUMMARY:Roundtable discussion on Data Adequacy and Brexit
DESCRIPTION: This roundtable is by invite only. While attention has understandably been diverted to the global pandemic\,  the end of the Brexit transition agreement remains the 31st December 2020. This has significant implications for companies who collect\,  process or transfer data out with the UK. Data adequacy negotiations between the UK and[..]
END:VEVENT
END:VCALENDAR