BEGIN:VCALENDAR
VERSION:2.0
PRODID:-//eventon.com NONSGML v1.0//EN
BEGIN:VEVENT
UID:69e5f67edde9f
DTSTAMP:20260420T104846
DTSTART:20201127T100000Z
DTEND:20201127T120000Z
LOCATION:Webinar 
SUMMARY:ISCF Digital Security by Design (DSbD) Software Ecosystem Competition Briefing Event
DESCRIPTION: The DSbD programme is producing technologies that have the potential to create a step-change in addressing security from the central hardware up across the software stack of digital systems. The ISCF Digital Security by Design (DSbD) Software Ecosystem competition – detailed investigation (single SME projects) - aims to provide the[..]
END:VEVENT
END:VCALENDAR