BEGIN:VCALENDAR
VERSION:2.0
PRODID:-//eventon.com NONSGML v1.0//EN
BEGIN:VEVENT
UID:69e73bcd18a23
DTSTAMP:20260421T095645
DTSTART:20210609T080000Z
DTEND:20210610T160000Z
LOCATION:Online 
SUMMARY:EC2 - European Cyber Cup
DESCRIPTION: EC2 is the first eSport competition entirely dedicated to ethical hacking. The purpose of EC2 is to bring together the world of gaming and that of hacking in order to highlight cybersecurity professions and their challenges while developing the fun and competitive side. At the end of the various tests\, [..]
END:VEVENT
END:VCALENDAR