BEGIN:VCALENDAR
VERSION:2.0
PRODID:-//eventon.com NONSGML v1.0//EN
BEGIN:VEVENT
UID:69e4cb63de4ee
DTSTAMP:20260419T133235
DTSTART:20210525T080000Z
DTEND:20210526T160000Z
LOCATION:Online 
SUMMARY:Agile Training - Professional Scrum Product Owner (PSPO)
DESCRIPTION: A two-day interactive course focused on the Product Owner role and how to drive value from products and services. To find out more and register\,  click the 'Learn More' link below.
END:VEVENT
END:VCALENDAR