BEGIN:VCALENDAR
VERSION:2.0
PRODID:-//eventon.com NONSGML v1.0//EN
BEGIN:VEVENT
UID:69e73b806436b
DTSTAMP:20260421T095528
DTSTART:20210609T130000Z
DTEND:20210609T133000Z
LOCATION:Online 
SUMMARY:Introduction of the graduate visa
DESCRIPTION: The new graduate visa route is a new post study work visa that will enable UK employers to access an additional talent pool of graduates who have studied in the UK. Employers will not require to sponsor them which means that this is a flexible visa that can be used[..]
END:VEVENT
END:VCALENDAR