BEGIN:VCALENDAR
VERSION:2.0
PRODID:-//eventon.com NONSGML v1.0//EN
BEGIN:VEVENT
UID:69e751265335b
DTSTAMP:20260421T112750
DTSTART:20210512T083000Z
DTEND:20210512T103000Z
LOCATION:Online 
SUMMARY:Packaging Sustainable Solutions - Perspectives & Opportunities
DESCRIPTION: Join Scottish Development International and partners for a special event focussed on the green transition and circular economy in Scotland and Denmark. Hosted by State of Green Denmark\,  this “Green Insights” online event will bring key Scottish and Danish stakeholders together to share knowledge\,  solutions and challenges in achieving sustainable[..]
END:VEVENT
END:VCALENDAR