BEGIN:VCALENDAR
VERSION:2.0
PRODID:-//eventon.com NONSGML v1.0//EN
BEGIN:VEVENT
UID:69e4cb6eb4a26
DTSTAMP:20260419T133246
DTSTART:20210518T100000Z
DTEND:20210518T110000Z
LOCATION:Online 
SUMMARY:Softworx 'Security within Education - Rise of the Threat Actor'
DESCRIPTION: Softworx in conjunction with our partner Cynet are hosting a 1 hour ‘Security within Education’ webinar on Tuesday 18th May’21 @ 11am - 12pm It will focus on ‘The Rise of the Threat Actor’ and end to end breach protection\,  regardless of your security teams size and skill. The session[..]
END:VEVENT
END:VCALENDAR