BEGIN:VCALENDAR
VERSION:2.0
PRODID:-//eventon.com NONSGML v1.0//EN
BEGIN:VEVENT
UID:69e4e11552b59
DTSTAMP:20260419T150509
DTSTART:20210915T090000Z
DTEND:20210915T100000Z
LOCATION:Online 
SUMMARY:Cyber Security and Sustainability
DESCRIPTION: Does having a truly secure cyber solution for your organisation automatically mean using high levels of energy and leaving a large carbon footprint? Or can the cyber security sector work as effectively sustainably\,  hand in hand with green targets? Join ScotlandIS on 15th September to be part of the debate[..]
END:VEVENT
END:VCALENDAR