BEGIN:VCALENDAR
VERSION:2.0
PRODID:-//eventon.com NONSGML v1.0//EN
BEGIN:VEVENT
UID:69eb25b3c0e45
DTSTAMP:20260424T091131
DTSTART:20210921T130000Z
DTEND:20210921T150000Z
LOCATION:Online 
SUMMARY:Scottish Digital Academy - Engagement with Industry
DESCRIPTION: The first of a series of industry engagement events to boost awareness of the opportunities within the Scottish public sector for Scotland’s growing\,  talented and dynamic digital industry. This event is organised by the Scottish Government’s Digital Commercial Service in collaboration with ScotlandIS\,  and will have the Scottish Digital Academy[..]
END:VEVENT
END:VCALENDAR