BEGIN:VCALENDAR
VERSION:2.0
PRODID:-//eventon.com NONSGML v1.0//EN
BEGIN:VEVENT
UID:69e73b7bee2e8
DTSTAMP:20260421T095523
DTSTART:20211208T140000Z
DTEND:20211208T160000Z
LOCATION:Online 
SUMMARY:Data Transformation Framework
DESCRIPTION: The pandemic highlighted the massive untapped potential in the way the public sector use and share data.  Clear messages came from the Digital Nation consultation\,  carried out in conjunction with Scotland IS in Summer 2020\,  which were echoed in the recent Digital Strategy (A changing nation: how Scotland will thrive[..]
END:VEVENT
END:VCALENDAR