BEGIN:VCALENDAR
VERSION:2.0
PRODID:-//eventon.com NONSGML v1.0//EN
BEGIN:VEVENT
UID:69e73b80a350f
DTSTAMP:20260421T095528
DTSTART:20220317T130000Z
DTEND:20220317T143000Z
LOCATION:Online 
SUMMARY:Becoming an adaptive organisation - and staying one
DESCRIPTION: Recent events drove momentum for a raft of new technology initiatives and investments\,  all implemented at speed because prevarication was simply not an option. Where customer and employee experience were concerned\,  continuity was everything; therefore nothing was off limits if it meant services to address their needs could be built[..]
END:VEVENT
END:VCALENDAR