BEGIN:VCALENDAR
VERSION:2.0
PRODID:-//eventon.com NONSGML v1.0//EN
BEGIN:VEVENT
UID:69e4e0df07bc5
DTSTAMP:20260419T150415
DTSTART:20220504T160000Z
DTEND:20220504T173000Z
LOCATION:Infinity Works\,  part of Accenture 7th Floor\,  Atria One\,  144 Morrison St
SUMMARY:From Zero to Snowflake
DESCRIPTION: Join Infinity Works (part of Accenture) for a 90-minute\,  free\,  hands-on workshop to learn how easy it is to turn your organisation into a data-driven business. Learn how you can benefit from Snowflake’s Data Cloud – an easy and secure solution to unite siloed data\,  easily discover and securely share[..]
END:VEVENT
END:VCALENDAR