BEGIN:VCALENDAR
VERSION:2.0
PRODID:-//eventon.com NONSGML v1.0//EN
BEGIN:VEVENT
UID:69e4cb6c5b3c3
DTSTAMP:20260419T133244
DTSTART:20230518T173000Z
DTEND:20230518T220000Z
LOCATION:Radisson Blu Hotel 301 Argyle St\,  Glasgow G2 8DL
SUMMARY:ScotlandIS Digital Technology Awards 2023
DESCRIPTION: The ScotlandIS Digital Technology Awards showcase excellence within the industry\,  rewarding the innovation\,  expertise and ambition of businesses large and small – and the people who drive them. Let’s highlight some of the great achievements within the tech sector over the last 12 months - nominate your organisation or an[..]
END:VEVENT
END:VCALENDAR