BEGIN:VCALENDAR
VERSION:2.0
PRODID:-//eventon.com NONSGML v1.0//EN
BEGIN:VEVENT
UID:69e73b8331cb1
DTSTAMP:20260421T095531
DTSTART:20230516T080000Z
DTEND:20230516T093000Z
LOCATION:GRID at Heriot-Watt First Gait  Currie EH14 4AP
SUMMARY:Digital Skills - Mind the Gap! | How to fill critical skills gaps
DESCRIPTION: It’s widely acknowledged that the Digital Skills Gap is widening and is impacting on firms across every sector of the Scottish economy. In this briefing we’ll look at how our Digital Graduate Apprenticeships are filling critical skills gaps in Data Science and Software Development and are making an impact with[..]
END:VEVENT
END:VCALENDAR