BEGIN:VCALENDAR
VERSION:2.0
PRODID:-//eventon.com NONSGML v1.0//EN
BEGIN:VEVENT
UID:69e7383f46831
DTSTAMP:20260421T094135
DTSTART:20191210T082000Z
DTEND:20191210T160000Z
LOCATION:Our Dynamic earth 
SUMMARY:Data Protection Summit
DESCRIPTION: The conference will contextualise the changing regulatory landscape\,  considering the business impact of the GDPR and DPA (2018) and how it is changing policy and process in practice. When GDPR came into force in May 2018 it significantly raised the bar of obligation and accountability\,  ensuring that all organisations who handle[..]
END:VEVENT
END:VCALENDAR