BEGIN:VCALENDAR
VERSION:2.0
PRODID:-//eventon.com NONSGML v1.0//EN
BEGIN:VEVENT
UID:69e4e0df200d3
DTSTAMP:20260419T150415
DTSTART:20191212T170000Z
DTEND:20191212T180000Z
LOCATION:University of Edinburgh University of Edinburgh (LG48\,  Paterson’s Land) Holyrood Road\,  Edinburgh EH8 8AE
SUMMARY:Deploying Drupal 8 with Ansible\,  Ansible Vault and Ansistrano
DESCRIPTION: Speaker: Oliver Davies\,  Inviqa Location: University of Edinburgh (LG48\,  Paterson’s Land\,  Holyrood Rd) We will be welcoming Oliver via video conference from his base in Caerleon\,  Wales. Great! You’ve built your website\,  and now you just need to deploy it. There are various ways that this could be done -[..]
END:VEVENT
END:VCALENDAR