BEGIN:VCALENDAR
VERSION:2.0
PRODID:-//eventon.com NONSGML v1.0//EN
BEGIN:VEVENT
UID:69e73643dfa9f
DTSTAMP:20260421T093307
DTSTART:20240321T073000Z
DTEND:20240321T153000Z
LOCATION:University of Strathclyde Technology and Innovation Centre 99 George St\,  Glasgow G1 1RD
SUMMARY:CLOUD\,  DATA & AI – TRANSFORMING PUBLIC SERVICES 2024
DESCRIPTION: Cloud\,  Data & AI – Transforming Public Services serves as the pivotal meeting point between government and technology providers\,  offering invaluable insights into harnessing the potential of cloud\,  data\,  and AI to modernise public services. Attendees will gain global thought leadership on leveraging these technologies for increased agility\,  responsiveness\,  and[..]
END:VEVENT
END:VCALENDAR