BEGIN:VCALENDAR
VERSION:2.0
PRODID:-//eventon.com NONSGML v1.0//EN
BEGIN:VEVENT
UID:69e91f34b996f
DTSTAMP:20260422T201916
DTSTART:20240320T230000Z
DTEND:20240321T225900Z
LOCATION:voco Grand Central Hotel 99 Gordon Street
SUMMARY:Cluster Ecosystem Conference 2024
DESCRIPTION: Scotland’s Cluster Ecosystem Conference is back\,  in partnership with the Scottish Cluster Ecosystem Alliance (SCEA). Aligning with the principles of SCEA\,  the conference will highlight opportunities and insights from across the tech ecosystem\,  and areas for cross-cluster collaboration. The day will look at international opportunities for tech businesses\,  as well as[..]
END:VEVENT
END:VCALENDAR