BEGIN:VCALENDAR
VERSION:2.0
PRODID:-//eventon.com NONSGML v1.0//EN
BEGIN:VEVENT
UID:69e4cb5c95cba
DTSTAMP:20260419T133228
DTSTART:20240304T230000Z
DTEND:20240305T225900Z
LOCATION:The Lowry Hotel 50 Dearmans Place Chapel Wharf Salford\,  Manchester M3 5LH
SUMMARY:CompTIA Community - UK & Ireland Meeting
DESCRIPTION: Join the CompTIA Community at the Lowry Hotel in Manchester for a full day of content and educational sessions designed to help you grow and improve your business. MSPs can book sessions in our Genius Café to get tailored 1:1 business advice from several leading industry experts\,  and everyone is[..]
END:VEVENT
END:VCALENDAR