BEGIN:VCALENDAR
VERSION:2.0
PRODID:-//eventon.com NONSGML v1.0//EN
BEGIN:VEVENT
UID:69e4cb6909526
DTSTAMP:20260419T133241
DTSTART:20240313T083000Z
DTEND:20240313T093000Z
LOCATION:Online 
SUMMARY:Gender Pay Balance & Workplace Productivity
DESCRIPTION: *Please note that this session will now be delivered online* This session is delivered in partnership with Institute of Directors (IoD) and Close the Gap. The unequal involvement of women in the labour market is a drag on growth for both individual businesses and the broader economy\,  as many women[..]
END:VEVENT
END:VCALENDAR