BEGIN:VCALENDAR
VERSION:2.0
PRODID:-//eventon.com NONSGML v1.0//EN
BEGIN:VEVENT
UID:69e4cb5fdcec4
DTSTAMP:20260419T133231
DTSTART:20240515T110000Z
DTEND:20240515T130000Z
LOCATION:IFB HQ Building 54\,  54 Hareness road\,  Aberdeen\,  AB12 3LE
SUMMARY:IFB Lunch & Learn: Enhancing property value through a connected building approach
DESCRIPTION: Based on excellent feedback and great response from previous events\,  IFB is organising another event from Lunch & Learn series. There don’t seem to be lot of businesses without digital connectivity anymore due to the rapid advance of new technologies and now more compliance standards and regulations within the building[..]
END:VEVENT
END:VCALENDAR