BEGIN:VCALENDAR
VERSION:2.0
PRODID:-//eventon.com NONSGML v1.0//EN
BEGIN:VEVENT
UID:69e4cdc1af273
DTSTAMP:20260419T134241
DTSTART:20240625T140000Z
DTEND:20240625T153000Z
LOCATION:Online 
SUMMARY:Digital Critical Friends Information Session
DESCRIPTION: This webinar is an opportunity for those curious about our Digital Critical Friends (DCF) initiative and interested in giving back to the next generation of talent to find out more about the programme and all of the partners involved.  Outline of the content covered:  ScotlandIS – Fiona Thomson from ScotlandIS[..]
END:VEVENT
END:VCALENDAR