BEGIN:VCALENDAR
VERSION:2.0
PRODID:-//eventon.com NONSGML v1.0//EN
BEGIN:VEVENT
UID:69e4cb56f09dd
DTSTAMP:20260419T133222
DTSTART:20250224T113000Z
DTEND:20250224T150000Z
LOCATION:CodeBase Ltd 8 10 Corn Exchange Road Stirling FK8 2HX
SUMMARY:Helping Third Sector Stay Safe Online
DESCRIPTION: Charities are using digital systems every day to deliver their services and keep in touch but with this capability comes a level of risk. Join us for an engaging half-day event tailored specifically for third sector organisations looking to help their organisation stay safe online. This free event is designed[..]
END:VEVENT
END:VCALENDAR