BEGIN:VCALENDAR
VERSION:2.0
PRODID:-//eventon.com NONSGML v1.0//EN
BEGIN:VEVENT
UID:69e73bdc1db79
DTSTAMP:20260421T095700
DTSTART:20250807T090000Z
DTEND:20250807T110000Z
LOCATION:Online 
SUMMARY:ScotlandIS Cyber Security Growth Action Plan Roundtable
DESCRIPTION: ScotlandIS invites you to join a focused roundtable discussion on the UK Cyber Security Growth Action Plan. This is an independent project funded by the Center for Sectoral Economic Performance (CSEP) at Imperial College London and led by Simon Shiu\,  until recently VP and Director of Cyber Security Research at[..]
END:VEVENT
END:VCALENDAR