BEGIN:VCALENDAR
VERSION:2.0
PRODID:-//eventon.com NONSGML v1.0//EN
BEGIN:VEVENT
UID:69e4e0ee9f490
DTSTAMP:20260419T150430
DTSTART:20250925T093000Z
DTEND:20250925T143000Z
LOCATION:
SUMMARY:UK Defence Exports: Glasgow SME Surgery
DESCRIPTION: The Department for Business and Trade’s UK Defence Exports SME Surgery hosted in collaboration with ADS Scotland\,  is taking place in Glasgow on 25th September (1000 – 1500). The Surgery is open to SME businesses that would like to meet with the UK Defence Exports team to understand more about engaging with[..]
END:VEVENT
END:VCALENDAR