BEGIN:VCALENDAR
VERSION:2.0
PRODID:-//eventon.com NONSGML v1.0//EN
BEGIN:VEVENT
UID:69e75137e8378
DTSTAMP:20260421T112807
DTSTART:20251211T100000Z
DTEND:20251210T230000Z
LOCATION:Online 
SUMMARY:Don’t throw AI at IT: A board briefing
DESCRIPTION: There may be plenty of unknowns when it comes to AI\,  but one thing is certain: it belongs on your board’s agenda. AI presents a significant opportunity if you’re prepared—and a critical risk if you’re not. AI adoption is rooted in more than just technology\,  it’s a strategic topic that[..]
END:VEVENT
END:VCALENDAR