BEGIN:VCALENDAR
VERSION:2.0
PRODID:-//eventon.com NONSGML v1.0//EN
BEGIN:VEVENT
UID:69eb3a0360f23
DTSTAMP:20260424T103811
DTSTART:20260402T143000Z
DTEND:20260402T210000Z
LOCATION:AC Marriott Glasgow 260 George St\,  Glasgow G1 1QX
SUMMARY:Strengthening Cyber Resilience: Insights & Networking
DESCRIPTION: Join Net-Defence and BTO Solicitors for an in-person event in Glasgow bringing together technical and legal specialists to explore how organisations can better prepare for\,  respond to and recover from cyber incidents. Cyber threats continue to rise across all sectors\,  and for most organisations it is no longer a question[..]
END:VEVENT
END:VCALENDAR