BEGIN:VCALENDAR
VERSION:2.0
PRODID:-//eventon.com NONSGML v1.0//EN
BEGIN:VEVENT
UID:69e74db7f28b2
DTSTAMP:20260421T111311
DTSTART:20260430T090000Z
DTEND:20260430T100000Z
LOCATION:Online 
SUMMARY:Cyber Security for the Third Sector: Meet the Experts
DESCRIPTION: ScotlandIS in partnership with SCVO are pleased to invite you to join our experts for a practical cyber security webinar for the 3rd sector. You’ll hear from Amanda Stewart of Illuminate IT and David Lawrence of Grant McGregor\,  who will share practical\,  real-world advice to help you protect your organisation. Charities and third sector organisations are increasingly[..]
END:VEVENT
END:VCALENDAR